BEGIN:VCALENDAR
VERSION:2.0
CALSCALE:GREGORIAN
PRODID:-//Diputació de Barcelona//DibaCMS//EN
BEGIN:VEVENT
UID:6893
DTSTAMP:20260426T013140
DTSTART:20221127T000000
DTEND:20221127T000000
SUMMARY:Trobada gegantera d'Aiguafreda
LOCATION:
METHOD:PUBLISH
X-WR-CALNAME:aiguafreda@aiguafreda.cat
X-WR-TIMEZONE:Europe/Madrid
DESCRIPTION:
URI:https://www.aiguafreda.cat/actualitat/agenda/6893-trobada-gegantera-daiguafreda.html
CLASS:PUBLIC
END:VEVENT
END:VCALENDAR
