BEGIN:VCALENDAR
VERSION:2.0
CALSCALE:GREGORIAN
PRODID:-//Diputació de Barcelona//DibaCMS//EN
BEGIN:VEVENT
UID:6891
DTSTAMP:20260426T042734
DTSTART:20221104T183000
DTEND:20221104T200000
SUMMARY:Tertúlia Literària
LOCATION:
METHOD:PUBLISH
X-WR-CALNAME:aiguafreda@aiguafreda.cat
X-WR-TIMEZONE:Europe/Madrid
DESCRIPTION:
URI:https://www.aiguafreda.cat/actualitat/agenda/6891-tertulia-literaria.html
CLASS:PUBLIC
END:VEVENT
END:VCALENDAR
