BEGIN:VCALENDAR
VERSION:2.0
CALSCALE:GREGORIAN
PRODID:-//Diputació de Barcelona//DibaCMS//EN
BEGIN:VEVENT
UID:6890
DTSTAMP:20260426T032147
DTSTART:20221029T000000
DTEND:20221029T000000
SUMMARY:Audició de Sardanes
LOCATION:
METHOD:PUBLISH
X-WR-CALNAME:aiguafreda@aiguafreda.cat
X-WR-TIMEZONE:Europe/Madrid
DESCRIPTION:
URI:https://www.aiguafreda.cat/actualitat/agenda/6890-audicio-de-sardanes.html
CLASS:PUBLIC
END:VEVENT
END:VCALENDAR
