BEGIN:VCALENDAR
VERSION:2.0
CALSCALE:GREGORIAN
PRODID:-//Diputació de Barcelona//DibaCMS//EN
BEGIN:VEVENT
UID:6889
DTSTAMP:20260425T215829
DTSTART:20221029T000000
DTEND:20221029T000000
SUMMARY:Castanyada al Casal Sant Jordi
LOCATION:
METHOD:PUBLISH
X-WR-CALNAME:aiguafreda@aiguafreda.cat
X-WR-TIMEZONE:Europe/Madrid
DESCRIPTION:
URI:https://www.aiguafreda.cat/actualitat/agenda/6889-castanyada-al-casal-sant-jordi.html
CLASS:PUBLIC
END:VEVENT
END:VCALENDAR
