BEGIN:VCALENDAR
VERSION:2.0
CALSCALE:GREGORIAN
PRODID:-//Diputació de Barcelona//DibaCMS//EN
BEGIN:VEVENT
UID:6885
DTSTAMP:20260425T215257
DTSTART:20220911T000000
DTEND:20220911T000000
SUMMARY:Actes de l'11 de setembre
LOCATION:
METHOD:PUBLISH
X-WR-CALNAME:aiguafreda@aiguafreda.cat
X-WR-TIMEZONE:Europe/Madrid
DESCRIPTION:
URI:https://www.aiguafreda.cat/actualitat/agenda/6885-actes-de-l11-de-setembre.html
CLASS:PUBLIC
END:VEVENT
END:VCALENDAR
