BEGIN:VCALENDAR
VERSION:2.0
CALSCALE:GREGORIAN
PRODID:-//Diputació de Barcelona//DibaCMS//EN
BEGIN:VEVENT
UID:6883
DTSTAMP:20260425T234502
DTSTART:20220905T000000
DTEND:20220905T000000
SUMMARY:Inici Curs Escolar
LOCATION:
METHOD:PUBLISH
X-WR-CALNAME:aiguafreda@aiguafreda.cat
X-WR-TIMEZONE:Europe/Madrid
DESCRIPTION:
URI:https://www.aiguafreda.cat/actualitat/agenda/inici-curs-escolar.html
CLASS:PUBLIC
END:VEVENT
END:VCALENDAR
