BEGIN:VCALENDAR
VERSION:2.0
CALSCALE:GREGORIAN
PRODID:-//Diputació de Barcelona//DibaCMS//EN
BEGIN:VEVENT
UID:6879
DTSTAMP:20260425T200736
DTSTART:20220716T000000
DTEND:20220716T000000
SUMMARY:Sopar de la Plaça Major
LOCATION:
METHOD:PUBLISH
X-WR-CALNAME:aiguafreda@aiguafreda.cat
X-WR-TIMEZONE:Europe/Madrid
DESCRIPTION:
URI:https://www.aiguafreda.cat/actualitat/agenda/sopar-de-la-placa-major.html
CLASS:PUBLIC
END:VEVENT
END:VCALENDAR
