BEGIN:VCALENDAR
VERSION:2.0
CALSCALE:GREGORIAN
PRODID:-//Diputació de Barcelona//DibaCMS//EN
BEGIN:VEVENT
UID:6877
DTSTAMP:20260425T183621
DTSTART:20220709T000000
DTEND:20220709T000000
SUMMARY:Caminada Nocturna
LOCATION:
METHOD:PUBLISH
X-WR-CALNAME:aiguafreda@aiguafreda.cat
X-WR-TIMEZONE:Europe/Madrid
DESCRIPTION:
URI:https://www.aiguafreda.cat/actualitat/agenda/caminada-nocturna.html
CLASS:PUBLIC
END:VEVENT
END:VCALENDAR
