BEGIN:VCALENDAR
VERSION:2.0
CALSCALE:GREGORIAN
PRODID:-//Diputació de Barcelona//DibaCMS//EN
BEGIN:VEVENT
UID:6875
DTSTAMP:20260425T173921
DTSTART:20220702T000000
DTEND:20220702T000000
SUMMARY:Festival de Ballet
LOCATION:
METHOD:PUBLISH
X-WR-CALNAME:aiguafreda@aiguafreda.cat
X-WR-TIMEZONE:Europe/Madrid
DESCRIPTION:
URI:https://www.aiguafreda.cat/actualitat/agenda/6875-festival-de-ballet.html
CLASS:PUBLIC
END:VEVENT
END:VCALENDAR
