BEGIN:VCALENDAR
VERSION:2.0
CALSCALE:GREGORIAN
PRODID:-//Diputació de Barcelona//DibaCMS//EN
BEGIN:VEVENT
UID:6870
DTSTAMP:20260425T152559
DTSTART:20220618T000000
DTEND:20220618T000000
SUMMARY:Concert Escola de Música
LOCATION:
METHOD:PUBLISH
X-WR-CALNAME:aiguafreda@aiguafreda.cat
X-WR-TIMEZONE:Europe/Madrid
DESCRIPTION:
URI:https://www.aiguafreda.cat/actualitat/agenda/concert-escola-de-musica.html
CLASS:PUBLIC
END:VEVENT
END:VCALENDAR
