BEGIN:VCALENDAR
VERSION:2.0
CALSCALE:GREGORIAN
PRODID:-//Diputació de Barcelona//DibaCMS//EN
BEGIN:VEVENT
UID:6869
DTSTAMP:20260425T183744
DTSTART:20220603T183000
DTEND:20220603T200000
SUMMARY:Tertúlia Literària
LOCATION:
METHOD:PUBLISH
X-WR-CALNAME:aiguafreda@aiguafreda.cat
X-WR-TIMEZONE:Europe/Madrid
DESCRIPTION:
URI:https://www.aiguafreda.cat/actualitat/agenda/6869-tertulia-literaria.html
CLASS:PUBLIC
END:VEVENT
END:VCALENDAR
