BEGIN:VCALENDAR
VERSION:2.0
CALSCALE:GREGORIAN
PRODID:-//Diputació de Barcelona//DibaCMS//EN
BEGIN:VEVENT
UID:6866
DTSTAMP:20260425T171124
DTSTART:20220521T000000
DTEND:20220521T000000
SUMMARY:Fira d'Herbes Remeieres
LOCATION:
METHOD:PUBLISH
X-WR-CALNAME:aiguafreda@aiguafreda.cat
X-WR-TIMEZONE:Europe/Madrid
DESCRIPTION:
URI:https://www.aiguafreda.cat/actualitat/agenda/6866-fira-dherbes-remeieres.html
CLASS:PUBLIC
END:VEVENT
END:VCALENDAR
