BEGIN:VCALENDAR
VERSION:2.0
CALSCALE:GREGORIAN
PRODID:-//Diputació de Barcelona//DibaCMS//EN
BEGIN:VEVENT
UID:6865
DTSTAMP:20260425T164824
DTSTART:20220519T000000
DTEND:20220519T000000
SUMMARY:Conferència de l'Aula de la Universitat a l'Abast
LOCATION:
METHOD:PUBLISH
X-WR-CALNAME:aiguafreda@aiguafreda.cat
X-WR-TIMEZONE:Europe/Madrid
DESCRIPTION:
URI:https://www.aiguafreda.cat/actualitat/agenda/6865-conferencia-de-laula-de-la-universitat-a-labast.html
CLASS:PUBLIC
END:VEVENT
END:VCALENDAR
