BEGIN:VCALENDAR
VERSION:2.0
CALSCALE:GREGORIAN
PRODID:-//Diputació de Barcelona//DibaCMS//EN
BEGIN:VEVENT
UID:6860
DTSTAMP:20260425T135500
DTSTART:20220423T000000
DTEND:20220423T000000
SUMMARY:Sant Jordi
LOCATION:
METHOD:PUBLISH
X-WR-CALNAME:aiguafreda@aiguafreda.cat
X-WR-TIMEZONE:Europe/Madrid
DESCRIPTION:
URI:https://www.aiguafreda.cat/actualitat/agenda/sant-jordi.html
CLASS:PUBLIC
END:VEVENT
END:VCALENDAR
