BEGIN:VCALENDAR
VERSION:2.0
CALSCALE:GREGORIAN
PRODID:-//Diputació de Barcelona//DibaCMS//EN
BEGIN:VEVENT
UID:6857
DTSTAMP:20260425T143054
DTSTART:20220402T060000
DTEND:20220402T235500
SUMMARY:Ultra Montseny
LOCATION:
METHOD:PUBLISH
X-WR-CALNAME:aiguafreda@aiguafreda.cat
X-WR-TIMEZONE:Europe/Madrid
DESCRIPTION:
URI:https://www.aiguafreda.cat/actualitat/agenda/6857-ultra-montseny.html
CLASS:PUBLIC
END:VEVENT
END:VCALENDAR
