BEGIN:VCALENDAR
VERSION:2.0
CALSCALE:GREGORIAN
PRODID:-//Diputació de Barcelona//DibaCMS//EN
BEGIN:VEVENT
UID:6856
DTSTAMP:20260425T123248
DTSTART:20220401T000000
DTEND:20220401T000000
SUMMARY:Ultra Montseny
LOCATION:
METHOD:PUBLISH
X-WR-CALNAME:aiguafreda@aiguafreda.cat
X-WR-TIMEZONE:Europe/Madrid
DESCRIPTION:
URI:https://www.aiguafreda.cat/actualitat/agenda/ultra-montseny.html
CLASS:PUBLIC
END:VEVENT
END:VCALENDAR
