BEGIN:VCALENDAR
VERSION:2.0
CALSCALE:GREGORIAN
PRODID:-//Diputació de Barcelona//DibaCMS//EN
BEGIN:VEVENT
UID:6854
DTSTAMP:20260425T143346
DTSTART:20220312T173000
DTEND:20220312T000000
SUMMARY:Rua de Carnaval
LOCATION:
METHOD:PUBLISH
X-WR-CALNAME:aiguafreda@aiguafreda.cat
X-WR-TIMEZONE:Europe/Madrid
DESCRIPTION:
URI:https://www.aiguafreda.cat/actualitat/agenda/rua-de-carnaval.html
CLASS:PUBLIC
END:VEVENT
END:VCALENDAR
