BEGIN:VCALENDAR
VERSION:2.0
CALSCALE:GREGORIAN
PRODID:-//Diputació de Barcelona//DibaCMS//EN
BEGIN:VEVENT
UID:6837
DTSTAMP:20260424T175104
DTSTART:20200713T000000
DTEND:20200715T000000
SUMMARY:13a. Setmana de la Joventut
LOCATION:
METHOD:PUBLISH
X-WR-CALNAME:aiguafreda@aiguafreda.cat
X-WR-TIMEZONE:Europe/Madrid
DESCRIPTION:
URI:https://www.aiguafreda.cat/actualitat/agenda/13a-setmana-de-la-joventut.html
CLASS:PUBLIC
END:VEVENT
END:VCALENDAR
