BEGIN:VCALENDAR
VERSION:2.0
CALSCALE:GREGORIAN
PRODID:-//Diputació de Barcelona//DibaCMS//EN
BEGIN:VEVENT
UID:6834
DTSTAMP:20260424T105943
DTSTART:20200701T000000
DTEND:20200701T000000
SUMMARY:Obertura de les Piscines Municipals
LOCATION:
METHOD:PUBLISH
X-WR-CALNAME:aiguafreda@aiguafreda.cat
X-WR-TIMEZONE:Europe/Madrid
DESCRIPTION:
URI:https://www.aiguafreda.cat/actualitat/agenda/6834-obertura-de-les-piscines-municipals.html
CLASS:PUBLIC
END:VEVENT
END:VCALENDAR
