BEGIN:VCALENDAR
VERSION:2.0
CALSCALE:GREGORIAN
PRODID:-//Diputació de Barcelona//DibaCMS//EN
BEGIN:VEVENT
UID:6833
DTSTAMP:20260424T050855
DTSTART:20200308T000000
DTEND:20200308T000000
SUMMARY:Caminada de la Dona
LOCATION:
METHOD:PUBLISH
X-WR-CALNAME:aiguafreda@aiguafreda.cat
X-WR-TIMEZONE:Europe/Madrid
DESCRIPTION:
URI:https://www.aiguafreda.cat/actualitat/agenda/6833-caminada-de-la-dona.html
CLASS:PUBLIC
END:VEVENT
END:VCALENDAR
