BEGIN:VCALENDAR
VERSION:2.0
CALSCALE:GREGORIAN
PRODID:-//Diputació de Barcelona//DibaCMS//EN
BEGIN:VEVENT
UID:6832
DTSTAMP:20260424T061340
DTSTART:20200307T000000
DTEND:20200307T000000
SUMMARY:Carnaval 2020
LOCATION:
METHOD:PUBLISH
X-WR-CALNAME:aiguafreda@aiguafreda.cat
X-WR-TIMEZONE:Europe/Madrid
DESCRIPTION:
URI:https://www.aiguafreda.cat/actualitat/agenda/carnaval-2020.html
CLASS:PUBLIC
END:VEVENT
END:VCALENDAR
