BEGIN:VCALENDAR
VERSION:2.0
CALSCALE:GREGORIAN
PRODID:-//Diputació de Barcelona//DibaCMS//EN
BEGIN:VEVENT
UID:6830
DTSTAMP:20260424T104652
DTSTART:20200303T000000
DTEND:20200303T000000
SUMMARY:Cinefòrum al Casal d'Avis
LOCATION:
METHOD:PUBLISH
X-WR-CALNAME:aiguafreda@aiguafreda.cat
X-WR-TIMEZONE:Europe/Madrid
DESCRIPTION:
URI:https://www.aiguafreda.cat/actualitat/agenda/cineforum-al-casal-davis.html
CLASS:PUBLIC
END:VEVENT
END:VCALENDAR
