BEGIN:VCALENDAR
VERSION:2.0
CALSCALE:GREGORIAN
PRODID:-//Diputació de Barcelona//DibaCMS//EN
BEGIN:VEVENT
UID:6827
DTSTAMP:20260424T091459
DTSTART:20200110T183000
DTEND:20200110T200000
SUMMARY:Tertúlia literària a la biblioteca Lluís Millet i Pagès
LOCATION:
METHOD:PUBLISH
X-WR-CALNAME:aiguafreda@aiguafreda.cat
X-WR-TIMEZONE:Europe/Madrid
DESCRIPTION:
URI:https://www.aiguafreda.cat/actualitat/agenda/6827-tertulia-literaria-a-la-biblioteca-lluis-millet-i-pages.html
CLASS:PUBLIC
END:VEVENT
END:VCALENDAR
