BEGIN:VCALENDAR
VERSION:2.0
CALSCALE:GREGORIAN
PRODID:-//Diputació de Barcelona//DibaCMS//EN
BEGIN:VEVENT
UID:6823
DTSTAMP:20260424T164229
DTSTART:20191225T000000
DTEND:20191225T000000
SUMMARY:Quina de Nadal
LOCATION:
METHOD:PUBLISH
X-WR-CALNAME:aiguafreda@aiguafreda.cat
X-WR-TIMEZONE:Europe/Madrid
DESCRIPTION:
URI:https://www.aiguafreda.cat/actualitat/agenda/6823-quina-de-nadal.html
CLASS:PUBLIC
END:VEVENT
END:VCALENDAR
