BEGIN:VCALENDAR
VERSION:2.0
CALSCALE:GREGORIAN
PRODID:-//Diputació de Barcelona//DibaCMS//EN
BEGIN:VEVENT
UID:6820
DTSTAMP:20260424T122402
DTSTART:20191215T000000
DTEND:20191215T000000
SUMMARY:Actes per La Marató de TV3 
LOCATION:
METHOD:PUBLISH
X-WR-CALNAME:aiguafreda@aiguafreda.cat
X-WR-TIMEZONE:Europe/Madrid
DESCRIPTION:
URI:https://www.aiguafreda.cat/actualitat/agenda/actes-per-la-marato-de-tv3-.html
CLASS:PUBLIC
END:VEVENT
END:VCALENDAR
