BEGIN:VCALENDAR
VERSION:2.0
CALSCALE:GREGORIAN
PRODID:-//Diputació de Barcelona//DibaCMS//EN
BEGIN:VEVENT
UID:6819
DTSTAMP:20260424T065456
DTSTART:20191214T170000
DTEND:20191214T000000
SUMMARY:Inauguració del Pessebre del Casal Sant Jordi
LOCATION:
METHOD:PUBLISH
X-WR-CALNAME:aiguafreda@aiguafreda.cat
X-WR-TIMEZONE:Europe/Madrid
DESCRIPTION:
URI:https://www.aiguafreda.cat/actualitat/agenda/6819-inauguracio-del-pessebre-del-casal-sant-jordi.html
CLASS:PUBLIC
END:VEVENT
END:VCALENDAR
