BEGIN:VCALENDAR
VERSION:2.0
CALSCALE:GREGORIAN
PRODID:-//Diputació de Barcelona//DibaCMS//EN
BEGIN:VEVENT
UID:6816
DTSTAMP:20260424T035257
DTSTART:20191206T000000
DTEND:20191208T000000
SUMMARY:Festa Major d'Hivern
LOCATION:
METHOD:PUBLISH
X-WR-CALNAME:aiguafreda@aiguafreda.cat
X-WR-TIMEZONE:Europe/Madrid
DESCRIPTION:
URI:https://www.aiguafreda.cat/actualitat/agenda/6816-festa-major-dhivern.html
CLASS:PUBLIC
END:VEVENT
END:VCALENDAR
