BEGIN:VCALENDAR
VERSION:2.0
CALSCALE:GREGORIAN
PRODID:-//Diputació de Barcelona//DibaCMS//EN
BEGIN:VEVENT
UID:6815
DTSTAMP:20260424T163510
DTSTART:20191130T000000
DTEND:20191130T000000
SUMMARY:Fira d'Artesans i de Nadal d'Aiguafreda
LOCATION:
METHOD:PUBLISH
X-WR-CALNAME:aiguafreda@aiguafreda.cat
X-WR-TIMEZONE:Europe/Madrid
DESCRIPTION:
URI:https://www.aiguafreda.cat/actualitat/agenda/fira-dartesans-i-de-nadal-daiguafreda.html
CLASS:PUBLIC
END:VEVENT
END:VCALENDAR
