BEGIN:VCALENDAR
VERSION:2.0
CALSCALE:GREGORIAN
PRODID:-//Diputació de Barcelona//DibaCMS//EN
BEGIN:VEVENT
UID:6814
DTSTAMP:20260424T181737
DTSTART:20191130T000000
DTEND:20191130T000000
SUMMARY:30a Trobada de Gegants
LOCATION:
METHOD:PUBLISH
X-WR-CALNAME:aiguafreda@aiguafreda.cat
X-WR-TIMEZONE:Europe/Madrid
DESCRIPTION:
URI:https://www.aiguafreda.cat/actualitat/agenda/6814-30a-trobada-de-gegants.html
CLASS:PUBLIC
END:VEVENT
END:VCALENDAR
