BEGIN:VCALENDAR
VERSION:2.0
CALSCALE:GREGORIAN
PRODID:-//Diputació de Barcelona//DibaCMS//EN
BEGIN:VEVENT
UID:6812
DTSTAMP:20260424T182339
DTSTART:20191124T000000
DTEND:20191124T000000
SUMMARY:Trobada Gegantera d'Aiguafreda
LOCATION:
METHOD:PUBLISH
X-WR-CALNAME:aiguafreda@aiguafreda.cat
X-WR-TIMEZONE:Europe/Madrid
DESCRIPTION:
URI:https://www.aiguafreda.cat/actualitat/agenda/trobada-gegantera-daiguafreda.html
CLASS:PUBLIC
END:VEVENT
END:VCALENDAR
