BEGIN:VCALENDAR
VERSION:2.0
CALSCALE:GREGORIAN
PRODID:-//Diputació de Barcelona//DibaCMS//EN
BEGIN:VEVENT
UID:6811
DTSTAMP:20260424T085303
DTSTART:20191123T000000
DTEND:20191123T000000
SUMMARY:Celebració del dia dels Drets dels Infants
LOCATION:
METHOD:PUBLISH
X-WR-CALNAME:aiguafreda@aiguafreda.cat
X-WR-TIMEZONE:Europe/Madrid
DESCRIPTION:
URI:https://www.aiguafreda.cat/actualitat/agenda/celebracio-del-dia-dels-drets-dels-infants.html
CLASS:PUBLIC
END:VEVENT
END:VCALENDAR
