BEGIN:VCALENDAR
VERSION:2.0
CALSCALE:GREGORIAN
PRODID:-//Diputació de Barcelona//DibaCMS//EN
BEGIN:VEVENT
UID:6807
DTSTAMP:20260424T182303
DTSTART:20191026T000000
DTEND:20191026T000000
SUMMARY:Castanyada al Casal Sant Jordi
LOCATION:
METHOD:PUBLISH
X-WR-CALNAME:aiguafreda@aiguafreda.cat
X-WR-TIMEZONE:Europe/Madrid
DESCRIPTION:
URI:https://www.aiguafreda.cat/actualitat/agenda/6807-castanyada-al-casal-sant-jordi.html
CLASS:PUBLIC
END:VEVENT
END:VCALENDAR
