BEGIN:VCALENDAR
VERSION:2.0
CALSCALE:GREGORIAN
PRODID:-//Diputació de Barcelona//DibaCMS//EN
BEGIN:VEVENT
UID:6801
DTSTAMP:20260420T144416
DTSTART:20191005T000000
DTEND:20191005T000000
SUMMARY:Inici del Curs 2019-2020 Eplai Pica Pins
LOCATION:
METHOD:PUBLISH
X-WR-CALNAME:aiguafreda@aiguafreda.cat
X-WR-TIMEZONE:Europe/Madrid
DESCRIPTION:
URI:https://www.aiguafreda.cat/actualitat/agenda/inici-del-curs-2019-2020-eplai-pica-pins.html
CLASS:PUBLIC
END:VEVENT
END:VCALENDAR
