BEGIN:VCALENDAR
VERSION:2.0
CALSCALE:GREGORIAN
PRODID:-//Diputació de Barcelona//DibaCMS//EN
BEGIN:VEVENT
UID:6798
DTSTAMP:20260424T021024
DTSTART:20190831T000000
DTEND:20190831T000000
SUMMARY:Sortida dels Gegants
LOCATION:
METHOD:PUBLISH
X-WR-CALNAME:aiguafreda@aiguafreda.cat
X-WR-TIMEZONE:Europe/Madrid
DESCRIPTION:
URI:https://www.aiguafreda.cat/actualitat/agenda/6798-sortida-dels-gegants.html
CLASS:PUBLIC
END:VEVENT
END:VCALENDAR
