BEGIN:VCALENDAR
VERSION:2.0
CALSCALE:GREGORIAN
PRODID:-//Diputació de Barcelona//DibaCMS//EN
BEGIN:VEVENT
UID:6790
DTSTAMP:20260424T085315
DTSTART:20190703T000000
DTEND:20190704T000000
SUMMARY:Festa de la Infància
LOCATION:
METHOD:PUBLISH
X-WR-CALNAME:aiguafreda@aiguafreda.cat
X-WR-TIMEZONE:Europe/Madrid
DESCRIPTION:
URI:https://www.aiguafreda.cat/actualitat/agenda/6790-festa-de-la-infancia.html
CLASS:PUBLIC
END:VEVENT
END:VCALENDAR
