BEGIN:VCALENDAR
VERSION:2.0
CALSCALE:GREGORIAN
PRODID:-//Diputació de Barcelona//DibaCMS//EN
BEGIN:VEVENT
UID:6782
DTSTAMP:20260424T023915
DTSTART:20190601T090000
DTEND:20190601T140000
SUMMARY:La Fira d’Herbes Remeieres i Plantes Aromàtiques, l’1 de juny 
LOCATION:
METHOD:PUBLISH
X-WR-CALNAME:aiguafreda@aiguafreda.cat
X-WR-TIMEZONE:Europe/Madrid
DESCRIPTION:
URI:https://www.aiguafreda.cat/actualitat/agenda/la-fira-dherbes-remeieres-i-plantes-aromatiques-l1-de-juny-.html
CLASS:PUBLIC
END:VEVENT
END:VCALENDAR
