BEGIN:VCALENDAR
VERSION:2.0
CALSCALE:GREGORIAN
PRODID:-//Diputació de Barcelona//DibaCMS//EN
BEGIN:VEVENT
UID:6779
DTSTAMP:20260424T033537
DTSTART:20190505T000000
DTEND:20190505T000000
SUMMARY:Caminada d'Aiguafreda
LOCATION:
METHOD:PUBLISH
X-WR-CALNAME:aiguafreda@aiguafreda.cat
X-WR-TIMEZONE:Europe/Madrid
DESCRIPTION:
URI:https://www.aiguafreda.cat/actualitat/agenda/caminada-daiguafreda.html
CLASS:PUBLIC
END:VEVENT
END:VCALENDAR
