BEGIN:VCALENDAR
VERSION:2.0
CALSCALE:GREGORIAN
PRODID:-//Diputació de Barcelona//DibaCMS//EN
BEGIN:VEVENT
UID:6775
DTSTAMP:20260424T065412
DTSTART:20190330T000000
DTEND:20190330T000000
SUMMARY:Concert de primavera de l’escola de música La Clau de Sol
LOCATION:
METHOD:PUBLISH
X-WR-CALNAME:aiguafreda@aiguafreda.cat
X-WR-TIMEZONE:Europe/Madrid
DESCRIPTION:
URI:https://www.aiguafreda.cat/actualitat/agenda/concert-de-primavera-de-lescola-de-musica-la-clau-de-sol.html
CLASS:PUBLIC
END:VEVENT
END:VCALENDAR
