BEGIN:VCALENDAR
VERSION:2.0
CALSCALE:GREGORIAN
PRODID:-//Diputació de Barcelona//DibaCMS//EN
BEGIN:VEVENT
UID:6774
DTSTAMP:20260424T033609
DTSTART:20190316T000000
DTEND:20190316T000000
SUMMARY:Carnaval
LOCATION:
METHOD:PUBLISH
X-WR-CALNAME:aiguafreda@aiguafreda.cat
X-WR-TIMEZONE:Europe/Madrid
DESCRIPTION:
URI:https://www.aiguafreda.cat/actualitat/agenda/6774-carnaval.html
CLASS:PUBLIC
END:VEVENT
END:VCALENDAR
