BEGIN:VCALENDAR
VERSION:2.0
CALSCALE:GREGORIAN
PRODID:-//Diputació de Barcelona//DibaCMS//EN
BEGIN:VEVENT
UID:6770
DTSTAMP:20260424T021058
DTSTART:20190105T183000
DTEND:20190105T210000
SUMMARY:Cavalcada de Reis
LOCATION:
METHOD:PUBLISH
X-WR-CALNAME:aiguafreda@aiguafreda.cat
X-WR-TIMEZONE:Europe/Madrid
DESCRIPTION:
URI:https://www.aiguafreda.cat/actualitat/agenda/6770-cavalcada-de-reis.html
CLASS:PUBLIC
END:VEVENT
END:VCALENDAR
