BEGIN:VCALENDAR
VERSION:2.0
CALSCALE:GREGORIAN
PRODID:-//Diputació de Barcelona//DibaCMS//EN
BEGIN:VEVENT
UID:6768
DTSTAMP:20260424T061845
DTSTART:20181231T003000
DTEND:20181231T000000
SUMMARY:Revetlla de Cap d'Any
LOCATION:
METHOD:PUBLISH
X-WR-CALNAME:aiguafreda@aiguafreda.cat
X-WR-TIMEZONE:Europe/Madrid
DESCRIPTION:
URI:https://www.aiguafreda.cat/actualitat/agenda/6768-revetlla-de-cap-dany.html
CLASS:PUBLIC
END:VEVENT
END:VCALENDAR
