BEGIN:VCALENDAR
VERSION:2.0
CALSCALE:GREGORIAN
PRODID:-//Diputació de Barcelona//DibaCMS//EN
BEGIN:VEVENT
UID:6767
DTSTAMP:20260424T033634
DTSTART:20181229T173000
DTEND:20181229T000000
SUMMARY:Patge Reial
LOCATION:
METHOD:PUBLISH
X-WR-CALNAME:aiguafreda@aiguafreda.cat
X-WR-TIMEZONE:Europe/Madrid
DESCRIPTION:
URI:https://www.aiguafreda.cat/actualitat/agenda/patge-reial.html
CLASS:PUBLIC
END:VEVENT
END:VCALENDAR
