BEGIN:VCALENDAR
VERSION:2.0
CALSCALE:GREGORIAN
PRODID:-//Diputació de Barcelona//DibaCMS//EN
BEGIN:VEVENT
UID:6762
DTSTAMP:20260424T163333
DTSTART:20181216T113000
DTEND:20181216T200000
SUMMARY:Actes per La Marató de TV3 a Aiguafreda i Sant Martí de Centelles
LOCATION:
METHOD:PUBLISH
X-WR-CALNAME:aiguafreda@aiguafreda.cat
X-WR-TIMEZONE:Europe/Madrid
DESCRIPTION:
URI:https://www.aiguafreda.cat/actualitat/agenda/actes-per-la-marato-de-tv3-a-aiguafreda-i-sant-marti-de-centelles.html
CLASS:PUBLIC
END:VEVENT
END:VCALENDAR
