BEGIN:VCALENDAR
VERSION:2.0
CALSCALE:GREGORIAN
PRODID:-//Diputació de Barcelona//DibaCMS//EN
BEGIN:VEVENT
UID:6761
DTSTAMP:20260423T201009
DTSTART:20181215T180000
DTEND:20181215T000000
SUMMARY:Concert de Nadal per La Marató a càrrec de l’Escola Municipal  de Música d’Aiguafreda “La Clau de Sol”
LOCATION:
METHOD:PUBLISH
X-WR-CALNAME:aiguafreda@aiguafreda.cat
X-WR-TIMEZONE:Europe/Madrid
DESCRIPTION:
URI:https://www.aiguafreda.cat/actualitat/agenda/concert-de-nadal-per-la-marato-a-carrec-de-lescola-municipal-de-musica-daiguafreda-la-clau-de-sol.html
CLASS:PUBLIC
END:VEVENT
END:VCALENDAR
