BEGIN:VCALENDAR
VERSION:2.0
CALSCALE:GREGORIAN
PRODID:-//Diputació de Barcelona//DibaCMS//EN
BEGIN:VEVENT
UID:6760
DTSTAMP:20260423T213600
DTSTART:20181215T110000
DTEND:20181215T000000
SUMMARY:XII Matinal de contes a la Biblioteca Lluís Millet i Pagès
LOCATION:
METHOD:PUBLISH
X-WR-CALNAME:aiguafreda@aiguafreda.cat
X-WR-TIMEZONE:Europe/Madrid
DESCRIPTION:
URI:https://www.aiguafreda.cat/actualitat/agenda/xii-matinal-de-contes-a-la-biblioteca-lluis-millet-i-pages.html
CLASS:PUBLIC
END:VEVENT
END:VCALENDAR
