BEGIN:VCALENDAR
VERSION:2.0
CALSCALE:GREGORIAN
PRODID:-//Diputació de Barcelona//DibaCMS//EN
BEGIN:VEVENT
UID:6759
DTSTAMP:20260424T164655
DTSTART:20181215T170000
DTEND:20181215T000000
SUMMARY:Inauguració del Pessebre
LOCATION:
METHOD:PUBLISH
X-WR-CALNAME:aiguafreda@aiguafreda.cat
X-WR-TIMEZONE:Europe/Madrid
DESCRIPTION:
URI:https://www.aiguafreda.cat/actualitat/agenda/inauguracio-del-pessebre.html
CLASS:PUBLIC
END:VEVENT
END:VCALENDAR
