BEGIN:VCALENDAR
VERSION:2.0
CALSCALE:GREGORIAN
PRODID:-//Diputació de Barcelona//DibaCMS//EN
BEGIN:VEVENT
UID:6756
DTSTAMP:20260424T061941
DTSTART:20181201T000000
DTEND:20181201T000000
SUMMARY:Presentació dels equips infantils de l’MBP Osona (Unió Esportiva Aiguafreda)
LOCATION:
METHOD:PUBLISH
X-WR-CALNAME:aiguafreda@aiguafreda.cat
X-WR-TIMEZONE:Europe/Madrid
DESCRIPTION:
URI:https://www.aiguafreda.cat/actualitat/agenda/presentacio-dels-equips-infantils-de-lmbp-osona-unio-esportiva-aiguafreda.html
CLASS:PUBLIC
END:VEVENT
END:VCALENDAR
