BEGIN:VCALENDAR
VERSION:2.0
CALSCALE:GREGORIAN
PRODID:-//Diputació de Barcelona//DibaCMS//EN
BEGIN:VEVENT
UID:6751
DTSTAMP:20260424T031141
DTSTART:20181116T190000
DTEND:20181116T000000
SUMMARY:Presentació del llibre ‘Combat entre gegants’ del filòsof centellenc Joaquim Sala
LOCATION:
METHOD:PUBLISH
X-WR-CALNAME:aiguafreda@aiguafreda.cat
X-WR-TIMEZONE:Europe/Madrid
DESCRIPTION:
URI:https://www.aiguafreda.cat/actualitat/agenda/presentacio-del-llibre-combat-entre-gegants-del-filosof-centellenc-joaquim-sala.html
CLASS:PUBLIC
END:VEVENT
END:VCALENDAR
