BEGIN:VCALENDAR
VERSION:2.0
CALSCALE:GREGORIAN
PRODID:-//Diputació de Barcelona//DibaCMS//EN
BEGIN:VEVENT
UID:6746
DTSTAMP:20260423T182922
DTSTART:20181027T000000
DTEND:20181027T000000
SUMMARY:La Casatanyada al Casal d'Avis
LOCATION:
METHOD:PUBLISH
X-WR-CALNAME:aiguafreda@aiguafreda.cat
X-WR-TIMEZONE:Europe/Madrid
DESCRIPTION:
URI:https://www.aiguafreda.cat/actualitat/agenda/la-casatanyada-al-casal-davis.html
CLASS:PUBLIC
END:VEVENT
END:VCALENDAR
