BEGIN:VCALENDAR
VERSION:2.0
CALSCALE:GREGORIAN
PRODID:-//Diputació de Barcelona//DibaCMS//EN
BEGIN:VEVENT
UID:6742
DTSTAMP:20260424T110741
DTSTART:20180909T000000
DTEND:20180909T000000
SUMMARY:Tancament de les piscines municipals
LOCATION:
METHOD:PUBLISH
X-WR-CALNAME:aiguafreda@aiguafreda.cat
X-WR-TIMEZONE:Europe/Madrid
DESCRIPTION:
URI:https://www.aiguafreda.cat/actualitat/agenda/6742-tancament-de-les-piscines-municipals.html
CLASS:PUBLIC
END:VEVENT
END:VCALENDAR
